BEGIN:VCALENDAR
VERSION:2.0
PRODID:-//Walsham Le Willows Sports Club - ECPv6.15.20//NONSGML v1.0//EN
CALSCALE:GREGORIAN
METHOD:PUBLISH
X-ORIGINAL-URL:https://walshamsportsclub.co.uk
X-WR-CALDESC:Events for Walsham Le Willows Sports Club
REFRESH-INTERVAL;VALUE=DURATION:PT1H
X-Robots-Tag:noindex
X-PUBLISHED-TTL:PT1H
BEGIN:VTIMEZONE
TZID:Europe/London
BEGIN:DAYLIGHT
TZOFFSETFROM:+0000
TZOFFSETTO:+0100
TZNAME:BST
DTSTART:20270328T010000
END:DAYLIGHT
BEGIN:STANDARD
TZOFFSETFROM:+0100
TZOFFSETTO:+0000
TZNAME:GMT
DTSTART:20271031T010000
END:STANDARD
BEGIN:DAYLIGHT
TZOFFSETFROM:+0000
TZOFFSETTO:+0100
TZNAME:BST
DTSTART:20280326T010000
END:DAYLIGHT
BEGIN:STANDARD
TZOFFSETFROM:+0100
TZOFFSETTO:+0000
TZNAME:GMT
DTSTART:20281029T010000
END:STANDARD
BEGIN:DAYLIGHT
TZOFFSETFROM:+0000
TZOFFSETTO:+0100
TZNAME:BST
DTSTART:20290325T010000
END:DAYLIGHT
BEGIN:STANDARD
TZOFFSETFROM:+0100
TZOFFSETTO:+0000
TZNAME:GMT
DTSTART:20291028T010000
END:STANDARD
END:VTIMEZONE
BEGIN:VEVENT
DTSTART;TZID=Europe/London:20281003T100000
DTEND;TZID=Europe/London:20281003T110000
DTSTAMP:20260425T222704
CREATED:20240516T201643Z
LAST-MODIFIED:20240516T201643Z
UID:10001815-1854180000-1854183600@walshamsportsclub.co.uk
SUMMARY:Walking Netball
DESCRIPTION:Walking netball is a slower version of the game we all love. It is netball\, but at a slower walking pace. Women the length of the country have started playing Walking Netball for the fun\, laughter and camaraderie the social session brings\, as much as the health benefits on offer.
URL:https://walshamsportsclub.co.uk/event/walking-netball/2028-10-03/
LOCATION:All Weather Pitch\, Walsham Sports Club\, Summer Road\, Bury St Edmunds\, Suffolk\, IP31 3AH\, United Kingdom
CATEGORIES:Netball
ATTACH;FMTTYPE=image/jpeg:https://walshamsportsclub.co.uk/wp-content/uploads/2024/02/walking_netball.jpg
END:VEVENT
BEGIN:VEVENT
DTSTART;TZID=Europe/London:20281005T180000
DTEND;TZID=Europe/London:20281005T190000
DTSTAMP:20260425T222704
CREATED:20240516T201826Z
LAST-MODIFIED:20240516T201826Z
UID:10002076-1854381600-1854385200@walshamsportsclub.co.uk
SUMMARY:Walking Netball
DESCRIPTION:Walking netball is a slower version of the game we all love. It is netball\, but at a slower walking pace. Women the length of the country have started playing Walking Netball for the fun\, laughter and camaraderie the social session brings\, as much as the health benefits on offer.
URL:https://walshamsportsclub.co.uk/event/walking-netball-2/2028-10-05/
LOCATION:All Weather Pitch\, Walsham Sports Club\, Summer Road\, Bury St Edmunds\, Suffolk\, IP31 3AH\, United Kingdom
CATEGORIES:Netball
ATTACH;FMTTYPE=image/jpeg:https://walshamsportsclub.co.uk/wp-content/uploads/2024/02/walking_netball.jpg
END:VEVENT
BEGIN:VEVENT
DTSTART;TZID=Europe/London:20281010T100000
DTEND;TZID=Europe/London:20281010T110000
DTSTAMP:20260425T222704
CREATED:20240516T201643Z
LAST-MODIFIED:20240516T201643Z
UID:10001816-1854784800-1854788400@walshamsportsclub.co.uk
SUMMARY:Walking Netball
DESCRIPTION:Walking netball is a slower version of the game we all love. It is netball\, but at a slower walking pace. Women the length of the country have started playing Walking Netball for the fun\, laughter and camaraderie the social session brings\, as much as the health benefits on offer.
URL:https://walshamsportsclub.co.uk/event/walking-netball/2028-10-10/
LOCATION:All Weather Pitch\, Walsham Sports Club\, Summer Road\, Bury St Edmunds\, Suffolk\, IP31 3AH\, United Kingdom
CATEGORIES:Netball
ATTACH;FMTTYPE=image/jpeg:https://walshamsportsclub.co.uk/wp-content/uploads/2024/02/walking_netball.jpg
END:VEVENT
BEGIN:VEVENT
DTSTART;TZID=Europe/London:20281012T180000
DTEND;TZID=Europe/London:20281012T190000
DTSTAMP:20260425T222704
CREATED:20240516T201826Z
LAST-MODIFIED:20240516T201826Z
UID:10002077-1854986400-1854990000@walshamsportsclub.co.uk
SUMMARY:Walking Netball
DESCRIPTION:Walking netball is a slower version of the game we all love. It is netball\, but at a slower walking pace. Women the length of the country have started playing Walking Netball for the fun\, laughter and camaraderie the social session brings\, as much as the health benefits on offer.
URL:https://walshamsportsclub.co.uk/event/walking-netball-2/2028-10-12/
LOCATION:All Weather Pitch\, Walsham Sports Club\, Summer Road\, Bury St Edmunds\, Suffolk\, IP31 3AH\, United Kingdom
CATEGORIES:Netball
ATTACH;FMTTYPE=image/jpeg:https://walshamsportsclub.co.uk/wp-content/uploads/2024/02/walking_netball.jpg
END:VEVENT
BEGIN:VEVENT
DTSTART;TZID=Europe/London:20281017T100000
DTEND;TZID=Europe/London:20281017T110000
DTSTAMP:20260425T222704
CREATED:20240516T201643Z
LAST-MODIFIED:20240516T201643Z
UID:10001817-1855389600-1855393200@walshamsportsclub.co.uk
SUMMARY:Walking Netball
DESCRIPTION:Walking netball is a slower version of the game we all love. It is netball\, but at a slower walking pace. Women the length of the country have started playing Walking Netball for the fun\, laughter and camaraderie the social session brings\, as much as the health benefits on offer.
URL:https://walshamsportsclub.co.uk/event/walking-netball/2028-10-17/
LOCATION:All Weather Pitch\, Walsham Sports Club\, Summer Road\, Bury St Edmunds\, Suffolk\, IP31 3AH\, United Kingdom
CATEGORIES:Netball
ATTACH;FMTTYPE=image/jpeg:https://walshamsportsclub.co.uk/wp-content/uploads/2024/02/walking_netball.jpg
END:VEVENT
BEGIN:VEVENT
DTSTART;TZID=Europe/London:20281019T180000
DTEND;TZID=Europe/London:20281019T190000
DTSTAMP:20260425T222704
CREATED:20240516T201826Z
LAST-MODIFIED:20240516T201826Z
UID:10002078-1855591200-1855594800@walshamsportsclub.co.uk
SUMMARY:Walking Netball
DESCRIPTION:Walking netball is a slower version of the game we all love. It is netball\, but at a slower walking pace. Women the length of the country have started playing Walking Netball for the fun\, laughter and camaraderie the social session brings\, as much as the health benefits on offer.
URL:https://walshamsportsclub.co.uk/event/walking-netball-2/2028-10-19/
LOCATION:All Weather Pitch\, Walsham Sports Club\, Summer Road\, Bury St Edmunds\, Suffolk\, IP31 3AH\, United Kingdom
CATEGORIES:Netball
ATTACH;FMTTYPE=image/jpeg:https://walshamsportsclub.co.uk/wp-content/uploads/2024/02/walking_netball.jpg
END:VEVENT
BEGIN:VEVENT
DTSTART;TZID=Europe/London:20281024T100000
DTEND;TZID=Europe/London:20281024T110000
DTSTAMP:20260425T222704
CREATED:20240516T201643Z
LAST-MODIFIED:20240516T201643Z
UID:10001818-1855994400-1855998000@walshamsportsclub.co.uk
SUMMARY:Walking Netball
DESCRIPTION:Walking netball is a slower version of the game we all love. It is netball\, but at a slower walking pace. Women the length of the country have started playing Walking Netball for the fun\, laughter and camaraderie the social session brings\, as much as the health benefits on offer.
URL:https://walshamsportsclub.co.uk/event/walking-netball/2028-10-24/
LOCATION:All Weather Pitch\, Walsham Sports Club\, Summer Road\, Bury St Edmunds\, Suffolk\, IP31 3AH\, United Kingdom
CATEGORIES:Netball
ATTACH;FMTTYPE=image/jpeg:https://walshamsportsclub.co.uk/wp-content/uploads/2024/02/walking_netball.jpg
END:VEVENT
BEGIN:VEVENT
DTSTART;TZID=Europe/London:20281026T180000
DTEND;TZID=Europe/London:20281026T190000
DTSTAMP:20260425T222704
CREATED:20240516T201826Z
LAST-MODIFIED:20240516T201826Z
UID:10002079-1856196000-1856199600@walshamsportsclub.co.uk
SUMMARY:Walking Netball
DESCRIPTION:Walking netball is a slower version of the game we all love. It is netball\, but at a slower walking pace. Women the length of the country have started playing Walking Netball for the fun\, laughter and camaraderie the social session brings\, as much as the health benefits on offer.
URL:https://walshamsportsclub.co.uk/event/walking-netball-2/2028-10-26/
LOCATION:All Weather Pitch\, Walsham Sports Club\, Summer Road\, Bury St Edmunds\, Suffolk\, IP31 3AH\, United Kingdom
CATEGORIES:Netball
ATTACH;FMTTYPE=image/jpeg:https://walshamsportsclub.co.uk/wp-content/uploads/2024/02/walking_netball.jpg
END:VEVENT
BEGIN:VEVENT
DTSTART;TZID=Europe/London:20281031T100000
DTEND;TZID=Europe/London:20281031T110000
DTSTAMP:20260425T222704
CREATED:20240516T201643Z
LAST-MODIFIED:20240516T201643Z
UID:10001819-1856599200-1856602800@walshamsportsclub.co.uk
SUMMARY:Walking Netball
DESCRIPTION:Walking netball is a slower version of the game we all love. It is netball\, but at a slower walking pace. Women the length of the country have started playing Walking Netball for the fun\, laughter and camaraderie the social session brings\, as much as the health benefits on offer.
URL:https://walshamsportsclub.co.uk/event/walking-netball/2028-10-31/
LOCATION:All Weather Pitch\, Walsham Sports Club\, Summer Road\, Bury St Edmunds\, Suffolk\, IP31 3AH\, United Kingdom
CATEGORIES:Netball
ATTACH;FMTTYPE=image/jpeg:https://walshamsportsclub.co.uk/wp-content/uploads/2024/02/walking_netball.jpg
END:VEVENT
END:VCALENDAR