BEGIN:VCALENDAR
VERSION:2.0
PRODID:-//Walsham Le Willows Sports Club - ECPv6.15.20//NONSGML v1.0//EN
CALSCALE:GREGORIAN
METHOD:PUBLISH
X-ORIGINAL-URL:https://walshamsportsclub.co.uk
X-WR-CALDESC:Events for Walsham Le Willows Sports Club
REFRESH-INTERVAL;VALUE=DURATION:PT1H
X-Robots-Tag:noindex
X-PUBLISHED-TTL:PT1H
BEGIN:VTIMEZONE
TZID:Europe/London
BEGIN:DAYLIGHT
TZOFFSETFROM:+0000
TZOFFSETTO:+0100
TZNAME:BST
DTSTART:20240331T010000
END:DAYLIGHT
BEGIN:STANDARD
TZOFFSETFROM:+0100
TZOFFSETTO:+0000
TZNAME:GMT
DTSTART:20241027T010000
END:STANDARD
BEGIN:DAYLIGHT
TZOFFSETFROM:+0000
TZOFFSETTO:+0100
TZNAME:BST
DTSTART:20250330T010000
END:DAYLIGHT
BEGIN:STANDARD
TZOFFSETFROM:+0100
TZOFFSETTO:+0000
TZNAME:GMT
DTSTART:20251026T010000
END:STANDARD
BEGIN:DAYLIGHT
TZOFFSETFROM:+0000
TZOFFSETTO:+0100
TZNAME:BST
DTSTART:20260329T010000
END:DAYLIGHT
BEGIN:STANDARD
TZOFFSETFROM:+0100
TZOFFSETTO:+0000
TZNAME:GMT
DTSTART:20261025T010000
END:STANDARD
END:VTIMEZONE
BEGIN:VEVENT
DTSTART;TZID=Europe/London:20250906T180000
DTEND;TZID=Europe/London:20250906T230000
DTSTAMP:20260422T065726
CREATED:20250626T192330Z
LAST-MODIFIED:20250901T195810Z
UID:10002927-1757181600-1757199600@walshamsportsclub.co.uk
SUMMARY:DRAG Night 2025
DESCRIPTION:Drag Extravaganza \n💋 Saturday 6th September | Walsham le Willows Sports Club \n🎤 Hosted by the sensational Zoe Promiscuous \n🌟 Starring: Kylie M’Hoe\, Stealia Jobs\, & Ginni Tonix \nGet ready for a dazzling night of live vocals\, lip-sync performances\, and unfiltered fabulousness! Doors open at 6 p.m.\, with showtime at 8 p.m.\, so arrive early\, grab a drink\, enjoy your food (included in ticket price)\, and soak in the pre-show atmosphere. \n🍔 Food provided by Meat and Greet \n🎟️ Tickets: \n\n\nEarly Bird: £25 (before 22/08/25)\, then £30 \n\n\nEarly Bird Table of 10: £200 (before 22/08/25)\, then £250 \n\n\n  \n💅 Come for the queens\, stay for the chaos — this is one night you won’t want to miss!
URL:https://walshamsportsclub.co.uk/event/drag-night-2025/
LOCATION:Sports Club\, Summer Road\, Walsham Le Willows\, Suffolk\, IP31 3AH\, United Kingdom
ATTACH;FMTTYPE=image/jpeg:https://walshamsportsclub.co.uk/wp-content/uploads/2025/06/Drag-WS.jpg
ORGANIZER;CN="Rachel Pollard":MAILTO:chris.pollard01@googlemail.com
END:VEVENT
END:VCALENDAR